BEGIN:VCALENDAR
VERSION:2.0
PRODID:-//hacksw/handcal//NONSGML v1.0//EN
BEGIN:VEVENT
SUMMARY:U11M-2 vs US CONFRANCON
UID:01a98fa9-6403-4fd8-8a07-58d00b46d008
DTSTART:20260424T220000Z
DTEND:20260425T220000Z
LOCATION:CULOZ BASKET CLUB Zone de Loisirs En Verbaou, Av. Jean Falconnier 01350 CULOZ
CATEGORIES:Sportif
STATUS:
DESCRIPTION:<p>Forfait de US CONFRANCON</p>
URL;VALUE=URI:https://www.culozbasketclub.fr/evenements/2026/04/25/u11m-2-vs-us-confrancon-2388448
END:VEVENT
END:VCALENDAR
